BEGIN:VCALENDAR
VERSION:2.0
PRODID:-//Tukios.com/
BEGIN:VEVENT
UID:36b8d3b7-ac47-4428-a1e2-6983d6a3ba0a@www.becvarfuneralhome.com
DTSTAMP:20260420T233731Z
DTSTART:20260424T200000Z
DTEND:20260425T010000Z
SUMMARY:Visitation
DESCRIPTION:
URL:https://www.becvarfuneralhome.com/obituaries/philip-fusco-jr
LOCATION: 5539 W 127th St  Crestwood IL 60418
GEO:41.6609856;-87.7560513
END:VEVENT
END:VCALENDAR